BEGIN:VCALENDAR
VERSION:2.0
PRODID:icalendar-ruby
CALSCALE:GREGORIAN
BEGIN:VEVENT
DTSTAMP:20260420T084400Z
UID:9680f143-e7c9-4570-a31d-1aa9fed906d8
DTSTART;VALUE=DATE:20190808
DESCRIPTION:Property ID# 458253\, Locatoin: Harcourts Lower Hutt\, Time: 12
 :00PM
SUMMARY:Auction for 
END:VEVENT
END:VCALENDAR
