BEGIN:VCALENDAR
VERSION:2.0
PRODID:icalendar-ruby
CALSCALE:GREGORIAN
BEGIN:VEVENT
DTSTAMP:20260421T152314Z
UID:963a1fa0-eea8-49d2-b9ee-1a16bd07ca24
DTSTART;VALUE=DATE:20191001
DESCRIPTION:Property ID# 461751\, Locatoin: 9-11 Kings Crescent\, Lower Hut
 t\, Time: 4:00PM
SUMMARY:Auction for 
END:VEVENT
END:VCALENDAR
