BEGIN:VCALENDAR
VERSION:2.0
PRODID:icalendar-ruby
CALSCALE:GREGORIAN
BEGIN:VEVENT
DTSTAMP:20260421T151212Z
UID:0bf4ed79-e431-46e5-87f5-dd4e845b9527
DTSTART;VALUE=DATE:20210324
DESCRIPTION:Property ID# 504462\, Locatoin: 9-11 Kings Crescent\, Lower Hut
 t\, Time: 12:00PM
SUMMARY:Auction for 
END:VEVENT
END:VCALENDAR
