BEGIN:VCALENDAR
VERSION:2.0
PRODID:icalendar-ruby
CALSCALE:GREGORIAN
BEGIN:VEVENT
DTSTAMP:20260421T183410Z
UID:0ecae3a9-8911-4929-91ee-756d6efd844b
DTSTART;VALUE=DATE:20240822
DESCRIPTION:Property ID# 579125\, Locatoin: 62 Queens Street\, Time: 2:00PM
SUMMARY:Auction for 
END:VEVENT
END:VCALENDAR
